BEGIN:VCALENDAR
VERSION:2.0
PRODID:-//LWMFHS - ECPv6.15.20//NONSGML v1.0//EN
CALSCALE:GREGORIAN
METHOD:PUBLISH
X-WR-CALNAME:LWMFHS
X-ORIGINAL-URL:https://lwmfhs.org
X-WR-CALDESC:Events for LWMFHS
REFRESH-INTERVAL;VALUE=DURATION:PT1H
X-Robots-Tag:noindex
X-PUBLISHED-TTL:PT1H
BEGIN:VTIMEZONE
TZID:Europe/London
BEGIN:DAYLIGHT
TZOFFSETFROM:+0000
TZOFFSETTO:+0100
TZNAME:BST
DTSTART:20250330T010000
END:DAYLIGHT
BEGIN:STANDARD
TZOFFSETFROM:+0100
TZOFFSETTO:+0000
TZNAME:GMT
DTSTART:20251026T010000
END:STANDARD
BEGIN:DAYLIGHT
TZOFFSETFROM:+0000
TZOFFSETTO:+0100
TZNAME:BST
DTSTART:20260329T010000
END:DAYLIGHT
BEGIN:STANDARD
TZOFFSETFROM:+0100
TZOFFSETTO:+0000
TZNAME:GMT
DTSTART:20261025T010000
END:STANDARD
BEGIN:DAYLIGHT
TZOFFSETFROM:+0000
TZOFFSETTO:+0100
TZNAME:BST
DTSTART:20270328T010000
END:DAYLIGHT
BEGIN:STANDARD
TZOFFSETFROM:+0100
TZOFFSETTO:+0000
TZNAME:GMT
DTSTART:20271031T010000
END:STANDARD
END:VTIMEZONE
BEGIN:VEVENT
DTSTART;TZID=Europe/London:20260509T100000
DTEND;TZID=Europe/London:20260509T160000
DTSTAMP:20260423T140455
CREATED:20260208T115950Z
LAST-MODIFIED:20260208T115950Z
UID:7173-1778320800-1778342400@lwmfhs.org
SUMMARY:Suffolk Family History Society Fair
DESCRIPTION:At the home of Suffolk Archives the Suffolk Family History Society Fair are holding their annual live family history fair. \nA FREE event with interesting displays and stalls from family history and related organisations. \nWe went last year and are delighted to be going again. \n  \n 
URL:https://lwmfhs.org/event/suffolk-family-history-society-fair/
LOCATION:The Hold\, 131 Fore Street\, Ipswich\, Suffolk\, IP4 1LR
END:VEVENT
BEGIN:VEVENT
DTSTART;TZID=Europe/London:20260514T200000
DTEND;TZID=Europe/London:20260514T210000
DTSTAMP:20260423T140455
CREATED:20260201T124958Z
LAST-MODIFIED:20260201T131917Z
UID:7153-1778788800-1778792400@lwmfhs.org
SUMMARY:From Cottage to Factory: How the Industrial Revolution Shaped Our Ancestors’ Lives
DESCRIPTION:A talk by Richard Marks. \nThe Industrial Revolution was not just a story of machines and inventions — it was a profound transformation of everyday life. This talk traces the journey from cottage industries and rural handcrafts to the rise of factories\, steam power\, and bustling industrial towns. We’ll explore how these changes affected the work our ancestors did\, the homes they lived in\, and the communities they built. \nDrawing on vivid examples from textiles\, railways\, and local trades\, the session will show how industrialisation created new opportunities but also new challenges\, from child labour and urban overcrowding to migration and social mobility. Alongside the big picture\, we’ll highlight the human dimension: how ordinary men\, women\, and children navigated this upheaval\, leaving behind records in census returns\, parish registers\, and family stories. \nBy connecting economic history with genealogical sources\, the talk will help family historians see the Industrial Revolution not as distant history\, but as a living context for their own ancestors’ experiences — a time when the rhythms of work\, home\, and community were reshaped forever. \nFor LWMFHS members only.\nMembership starts at £12.\nJoin Us – LWMFHS
URL:https://lwmfhs.org/event/from-cottage-to-factory-how-the-industrial-revolution-shaped-our-ancestors-lives/
LOCATION:Online via Zoom\, London\, England\, United Kingdom
ORGANIZER;CN="LWMFHS Virtual Branch":MAILTO:virtualbranch@lwmfhs.org
END:VEVENT
BEGIN:VEVENT
DTSTART;TZID=Europe/London:20260611T200000
DTEND;TZID=Europe/London:20260611T210000
DTSTAMP:20260423T140455
CREATED:20260201T130133Z
LAST-MODIFIED:20260201T131843Z
UID:7155-1781208000-1781211600@lwmfhs.org
SUMMARY:The Lloyd George Doomsday Survey
DESCRIPTION:A talk by Gill Blanchard.\nThe Inland Revenue Valuation Office Survey of 1910-1920 is often referred to as the Lloyd George Domesday Survey. It combines residential data and maps to help you find\, for example\, the location of your ancestor’s house even if it no longer exists. \nFor LWMFHS members only.\nMembership starts at £12.\nJoin Us – LWMFHS
URL:https://lwmfhs.org/event/the-lloyd-george-doomsday-survey/
LOCATION:Online via Zoom\, London\, England\, United Kingdom
ORGANIZER;CN="LWMFHS Virtual Branch":MAILTO:virtualbranch@lwmfhs.org
END:VEVENT
BEGIN:VEVENT
DTSTART;TZID=Europe/London:20260709T200000
DTEND;TZID=Europe/London:20260709T210000
DTSTAMP:20260423T140455
CREATED:20260201T130649Z
LAST-MODIFIED:20260201T130649Z
UID:7157-1783627200-1783630800@lwmfhs.org
SUMMARY:Treasures of the Camden Archives
DESCRIPTION:A talk by Tudor Allen.\nIn this illustrated talk\, Tudor Allen\, Archivist at Camden Local Studies and Archives Centre\, Presents some of the highlights from the Centre’s collections including photographs\, art works\, rare books\, archives and ephemera. Among the items examined will be a 16th century deed\, a King James the First letters patent\, 18th century workhouse accounts\, Hampstead Militia muskets\, Second World War civil defence records\, and letters of Millicent Fawcett\, Charles Dickens and George Bernard Shaw. \nFor LWMFHS members only.\nMembership starts at £12.\nJoin Us – LWMFHS
URL:https://lwmfhs.org/event/treasures-of-the-camden-archives/
LOCATION:Online via Zoom\, London\, England\, United Kingdom
ORGANIZER;CN="LWMFHS Virtual Branch":MAILTO:virtualbranch@lwmfhs.org
END:VEVENT
BEGIN:VEVENT
DTSTART;TZID=Europe/London:20260813T200000
DTEND;TZID=Europe/London:20260813T210000
DTSTAMP:20260423T140455
CREATED:20260201T131727Z
LAST-MODIFIED:20260201T131727Z
UID:7159-1786651200-1786654800@lwmfhs.org
SUMMARY:William Maybank and the Hyde Park Riots
DESCRIPTION:A talk by Jananne Rahman.\nIn the winter of 1870 the body of William Maybank was recovered from the Thames. How was his death linked to the events of July 1866 when protest turned into violence? Hear how disparate sources came together to form a narrative of one man’s physical and mental struggles in an age of political and social change. \nFor LWMFHS members only.\nMembership starts at £12.\nJoin Us – LWMFHS
URL:https://lwmfhs.org/event/william-maybank-and-the-hyde-park-riots/
LOCATION:Online via Zoom\, London\, England\, United Kingdom
ORGANIZER;CN="LWMFHS Virtual Branch":MAILTO:virtualbranch@lwmfhs.org
END:VEVENT
BEGIN:VEVENT
DTSTART;TZID=Europe/London:20260910T200000
DTEND;TZID=Europe/London:20260910T210000
DTSTAMP:20260423T140455
CREATED:20260202T114045Z
LAST-MODIFIED:20260202T114508Z
UID:7166-1789070400-1789074000@lwmfhs.org
SUMMARY:Hidden legacies: what Chancery Courts reveal about our ancestors
DESCRIPTION:A talk by Sarah Pettyfer.\nChancery records are one of the most under used resources for family history but can reveal so much about our ancestors’ lives\, their family\, social and business connections\, and their property. This talk will look at who and why our ancestors may have become involved in Chancery court case and explore the hidden stories to be found. \nFor LWMFHS members only.\nMembership starts at £12.\nJoin Us – LWMFHS
URL:https://lwmfhs.org/event/hidden-legacies-what-chancery-courts-reveal-about-our-ancestors/
LOCATION:Online via Zoom\, London\, England\, United Kingdom
ORGANIZER;CN="LWMFHS Virtual Branch":MAILTO:virtualbranch@lwmfhs.org
END:VEVENT
END:VCALENDAR